Workbook

Sheet Exec Summary
B3: Finance Scorecard - Actual
B4: All cells automatically calculated
C5: Jan | D5: Feb | E5: Mar | F5: Apr | G5: May | H5: Jun | I5: Jul | J5: Aug | K5: Sep | L5: Oct | M5: Nov | N5: Dec | O5: YEAR
B6: Product Resell Revenue | C6: =ACTUAL!B8 -> 0 | D6: =ACTUAL!C8 -> 0 | E6: =ACTUAL!D8 -> 0 | F6: =ACTUAL!E8 -> 0 | G6: =ACTUAL!F8 -> 0 | H6: =ACTUAL!G8 -> 0 | I6: =ACTUAL!H8 -> 0 | J6: =ACTUAL!I8 -> 0 | ... N6: =ACTUAL!M8 -> 0 | O6: =C6+D6+E6+F6+G6+H6+I6+J6+K6+L6+M6+N6 -> 0
B7: Services Revenue | C7: =ACTUAL!B19 -> 0 | D7: =ACTUAL!C19 -> 0 | E7: =ACTUAL!D19 -> 0 | F7: =ACTUAL!E19 -> 0 | G7: =ACTUAL!F19 -> 0 | H7: =ACTUAL!G19 -> 0 | I7: =ACTUAL!H19 -> 0 | J7: =ACTUAL!I19 -> 0 | ... N7: =ACTUAL!M19 -> 0 | O7: =C7+D7+E7+F7+G7+H7+I7+J7+K7+L7+M7+N7 -> 0
B8: Total Revenue | C8: =ACTUAL!B22 -> 0 | D8: =ACTUAL!C22 -> 0 | E8: =ACTUAL!D22 -> 0 | F8: =ACTUAL!E22 -> 0 | G8: =ACTUAL!F22 -> 0 | H8: =ACTUAL!G22 -> 0 | I8: =ACTUAL!H22 -> 0 | J8: =ACTUAL!I22 -> 0 | ... N8: =ACTUAL!M22 -> 0 | O8: =C8+D8+E8+F8+G8+H8+I8+J8+K8+L8+M8+N8 -> 0
O9: =C9+D9+E9+F9+G9+H9+I9+J9+K9+L9+M9+N9 -> 0
B10: Total COGS | C10: =ACTUAL!B38 -> 0 | D10: =ACTUAL!C38 -> 0 | E10: =ACTUAL!D38 -> 0 | F10: =ACTUAL!E38 -> 0 | G10: =ACTUAL!F38 -> 0 | H10: =ACTUAL!G38 -> 0 | I10: =ACTUAL!H38 -> 0 | J10: =ACTUAL!I38 -> 0 | ... N10: =ACTUAL!M38 -> 0 | O10: =C10+D10+E10+F10+G10+H10+I10+J10+K10+L10+M10+N10 -> 0
O11: =C11+D11+E11+F11+G11+H11+I11+J11+K11+L11+M11+N11 -> 0
B12: Total Gross Profit | C12: =ACTUAL!B43 -> 0 | D12: =ACTUAL!C43 -> 0 | E12: =ACTUAL!D43 -> 0 | F12: =ACTUAL!E43 -> 0 | G12: =ACTUAL!F43 -> 0 | H12: =ACTUAL!G43 -> 0 | I12: =ACTUAL!H43 -> 0 | J12: =ACTUAL!I43 -> 0 | ... N12: =ACTUAL!M43 -> 0 | O12: =C12+D12+E12+F12+G12+H12+I12+J12+K12+L12+M12+N12 -> 0
O13: =C13+D13+E13+F13+G13+H13+I13+J13+K13+L13+M13+N13 -> 0
B14: Total Expenses | C14: =ACTUAL!B93 -> 0 | D14: =ACTUAL!C93 -> 0 | E14: =ACTUAL!D93 -> 0 | F14: =ACTUAL!E93 -> 0 | G14: =ACTUAL!F93 -> 0 | H14: =ACTUAL!G93 -> 0 | I14: =ACTUAL!H93 -> 0 | J14: =ACTUAL!I93 -> 0 | ... N14: =ACTUAL!M93 -> 0 | O14: =C14+D14+E14+F14+G14+H14+I14+J14+K14+L14+M14+N14 -> 0
O15: =C15+D15+E15+F15+G15+H15+I15+J15+K15+L15+M15+N15 -> 0
B16: Net Profit | C16: =ACTUAL!B97 -> 0 | D16: =ACTUAL!C97 -> 0 | E16: =ACTUAL!D97 -> 0 | F16: =ACTUAL!E97 -> 0 | G16: =ACTUAL!F97 -> 0 | H16: =ACTUAL!G97 -> 0 | I16: =ACTUAL!H97 -> 0 | J16: =ACTUAL!I97 -> 0 | ... N16: =ACTUAL!M97 -> 0 | O16: =C16+D16+E16+F16+G16+H16+I16+J16+K16+L16+M16+N16 -> 0
B17: Asset Payments | C17: =ACTUAL!B98 -> 0 | D17: =ACTUAL!C98 -> 0 | E17: =ACTUAL!D98 -> 0 | F17: =ACTUAL!E98 -> 0 | G17: =ACTUAL!F98 -> 0 | H17: =ACTUAL!G98 -> 0 | I17: =ACTUAL!H98 -> 0 | J17: =ACTUAL!I98 -> 0 | ... N17: =ACTUAL!M98 -> 0 | O17: =C17+D17+E17+F17+G17+H17+I17+J17+K17+L17+M17+N17 -> 0
B18: Operating Profit | C18: =ACTUAL!B99 -> 0 | D18: =ACTUAL!C99 -> 0 | E18: =ACTUAL!D99 -> 0 | F18: =ACTUAL!E99 -> 0 | G18: =ACTUAL!F99 -> 0 | H18: =ACTUAL!G99 -> 0 | I18: =ACTUAL!H99 -> 0 | J18: =ACTUAL!I99 -> 0 | ... N18: =ACTUAL!M99 -> 0 | O18: =C18+D18+E18+F18+G18+H18+I18+J18+K18+L18+M18+N18 -> 0
B20: Net Profit % (Pre-Bonus) | C20: =C16/C8 -> #DIV/0! | D20: =D16/D8 -> #DIV/0! | E20: =E16/E8 -> #DIV/0! | F20: =F16/F8 -> #DIV/0! | G20: =G16/G8 -> #DIV/0! | H20: =H16/H8 -> #DIV/0! | I20: =I16/I8 -> #DIV/0! | J20: =J16/J8 -> #DIV/0! | ... O20: =O16/O8 -> #DIV/0!
B21: Net Profit % (Post-Bonus) | C21: =(C16/C8)*0.75 -> #DIV/0! | D21: =(D16/D8)*0.75 -> #DIV/0! | E21: =(E16/E8)*0.75 -> #DIV/0! | F21: =(F16/F8)*0.75 -> #DIV/0! | G21: =(G16/G8)*0.75 -> #DIV/0! | H21: =(H16/H8)*0.75 -> #DIV/0! | I21: =(I16/I8)*0.75 -> #DIV/0! | J21: =(J16/J8)*0.75 -> #DIV/0! | ... O21: =(O16/O8)*0.75 -> #DIV/0!
B22: GM % | C22: =C12/C8 -> #DIV/0! | D22: =D12/D8 -> #DIV/0! | E22: =E12/E8 -> #DIV/0! | F22: =F12/F8 -> #DIV/0! | G22: =G12/G8 -> #DIV/0! | H22: =H12/H8 -> #DIV/0! | I22: =I12/I8 -> #DIV/0! | J22: =J12/J8 -> #DIV/0! | ... O22: =O12/O8 -> #DIV/0!
B23: MRR $ | C23: =ACTUAL!B11+ACTUAL!B12 -> 0 | D23: =ACTUAL!C11+ACTUAL!C12 -> 0 | E23: =ACTUAL!D11+ACTUAL!D12 -> 0 | F23: =ACTUAL!E11+ACTUAL!E12 -> 0 | G23: =ACTUAL!F11+ACTUAL!F12 -> 0 | H23: =ACTUAL!G11+ACTUAL!G12 -> 0 | I23: =ACTUAL!H11+ACTUAL!H12 -> 0 | J23: =ACTUAL!I11+ACTUAL!I12 -> 0 | ... O23: =ACTUAL!N11+ACTUAL!N12 -> 0
B25: YTD % Revenue | F25: YTD % Expenses
B26: Hardware/Software Sales | C26: =ACTUAL!N6/ACTUAL!N22 -> #DIV/0! | F26: Payroll | G26: =(ACTUAL!N34+ACTUAL!N35+ACTUAL!N37+ACTUAL!N47+ACTUAL!N48+ACTUAL!N82+ACTUAL!N83+ACTUAL!N84)/(ACTUAL!N34+ACTUAL!N35+ACTUAL!N37+ACTUAL!N47+ACTUAL!N48+ACTUAL!N49+ACTUAL!N72+ACTUAL!N85+ACTUAL!N90) -> #DIV/0!
B27: MSP | C27: =(ACTUAL!N11+ACTUAL!N12)/ACTUAL!N22 -> #DIV/0! | F27: Office Costs | G27: =ACTUAL!N72/(ACTUAL!N93+ACTUAL!N50+ACTUAL!N34+ACTUAL!N35+ACTUAL!N37+ACTUAL!N82+ACTUAL!N83+ACTUAL!N84) -> #DIV/0!
B28: Project | C28: =(ACTUAL!N13+ACTUAL!N14)/ACTUAL!N22 -> #DIV/0! | F28: Mkt and Sales | G28: =ACTUAL!N85/(ACTUAL!N93+ACTUAL!N50+ACTUAL!N34+ACTUAL!N35+ACTUAL!N37+ACTUAL!N82+ACTUAL!N83+ACTUAL!N84) -> #DIV/0!
B29: Break-Fix | C29: =ACTUAL!N16/ACTUAL!N22 -> #DIV/0! | F29: Vehicles | G29: =ACTUAL!N90/(ACTUAL!N93+ACTUAL!N50+ACTUAL!N34+ACTUAL!N35+ACTUAL!N37+ACTUAL!N82+ACTUAL!N83+ACTUAL!N84) -> #DIV/0!

Sheet Budget
A3: Detailed Budget Estimates
A4: Shaded cells are calculations.
A5: Planned Revenue | B5: Jan | C5: Feb | D5: Mar | E5: Apr | F5: May | G5: Jun | H5: Jul | I5: Aug | J5: Sep | K5: Oct | L5: Nov | M5: Dec | N5: YEAR
A6: Product Resell Revenue | B6: Jan | C6: Feb | D6: Mar | E6: Apr | F6: May | G6: Jun | H6: Jul | I6: Aug | J6: Sep | K6: Oct | L6: Nov | M6: Dec | N6: YEAR
A7: Product Sales | N7: =SUM(B7:M7) -> 0
N8: =SUM(B8:M8) -> 0
A9: Subtotal | B9: =B7+B8 -> 0 | C9: =C7+C8 -> 0 | D9: =D7+D8 -> 0 | E9: =E7+E8 -> 0 | F9: =F7+F8 -> 0 | G9: =G7+G8 -> 0 | H9: =H7+H8 -> 0 | I9: =I7+I8 -> 0 | ... N9: =N7+N8 -> 0
A11: Services Revenue | B11: Jan | C11: Feb | D11: Mar | E11: Apr | F11: May | G11: Jun | H11: Jul | I11: Aug | J11: Sep | K11: Oct | L11: Nov | M11: Dec | N11: YEAR
A12: (MSP) Infra Managed Revenue | N12: =SUM(B12:M12) -> 0
A13: Other Recurring Revenue | N13: =SUM(B13:M13) -> 0
A14: Project Revenue | N14: =SUM(B14:M14) -> 0
A15: Compliance Dept. Project Rev | N15: =SUM(B15:M15) -> 0
A16: Compliance Dept. Recurring Rev | N16: =SUM(B16:M16) -> 0
A17: Break-Fix Revenue | N17: =SUM(B17:M17) -> 0
A18: Web Revenue (including recurring) | N18: =SUM(B18:M18) -> 0
A19: Other Revenue | N19: =SUM(B19:M19) -> 0
A20: Subtotal | B20: =SUM(B12:B19) -> 0 | C20: =SUM(C12:C19) -> 0 | D20: =SUM(D12:D19) -> 0 | E20: =SUM(E12:E19) -> 0 | F20: =SUM(F12:F19) -> 0 | G20: =SUM(G12:G19) -> 0 | H20: =SUM(H12:H19) -> 0 | I20: =SUM(I12:I19) -> 0 | ... M20: =SUM(M12:M19) -> 0 | N20: =SUM(tblEmplPlan1415[YEAR]) -> 0
A22: TOTAL Revenue
A23: TOTAL Planned Revenue | B23: =tblEmplPlan14[[#Totals],[Jan]]+tblEmplPlan1415[[#Totals],[Jan]] -> 0 | C23: =tblEmplPlan14[[#Totals],[Feb]]+tblEmplPlan1415[[#Totals],[Feb]] -> 0 | D23: =tblEmplPlan14[[#Totals],[Mar]]+tblEmplPlan1415[[#Totals],[Mar]] -> 0 | E23: =tblEmplPlan14[[#Totals],[Apr]]+tblEmplPlan1415[[#Totals],[Apr]] -> 0 | F23: =tblEmplPlan14[[#Totals],[May]]+tblEmplPlan1415[[#Totals],[May]] -> 0 | G23: =tblEmplPlan14[[#Totals],[Jun]]+tblEmplPlan1415[[#Totals],[Jun]] -> 0 | H23: =tblEmplPlan14[[#Totals],[Jul]]+tblEmplPlan1415[[#Totals],[Jul]] -> 0 | I23: =tblEmplPlan14[[#Totals],[Aug]]+tblEmplPlan1415[[#Totals],[Aug]] -> 0 | J23: =tblEmplPlan14[[#Totals],[Sep]]+tblEmplPlan1415[[#Totals],[Sep]] -> 0 | K23: =tblEmplPlan14[[#Totals],[Oct]]+tblEmplPlan1415[[#Totals],[Oct]] -> 0 | L23: =tblEmplPlan14[[#Totals],[Nov]]+tblEmplPlan1415[[#Totals],[Nov]] -> 0 | M23: =tblEmplPlan14[[#Totals],[Dec]]+tblEmplPlan1415[[#Totals],[Dec]] -> 0 | N23: =SUM(B23:M23) -> 0
A25: COGS | B25: Jan | C25: Feb | D25: Mar | E25: Apr | F25: May | G25: Jun | H25: Jul | I25: Aug | J25: Sep | K25: Oct | L25: Nov | M25: Dec | N25: YEAR
A26: Product COGS | N26: =SUM(B26:M26) -> 0
A27: UTM/Wattbox/BDR | N27: =SUM(B27:M27) -> 0
A28: MSP COGS | N28: =SUM(B28:M28) -> 0
A29: Project COGS | N29: =SUM(B29:M29) -> 0
A30: Compliance COGS | N30: =SUM(B30:M30) -> 0
A31: Break-Fix COGS | N31: =SUM(B31:M31) -> 0
A32: Web COGS (including recurring) | N32: =SUM(B32:M32) -> 0
A33: Other Recurring COGS | N33: =SUM(B33:M33) -> 0
N34: =SUM(B34:M34) -> 0
A35: Payroll - MSP | N35: =SUM(B35:M35) -> 0
A36: Payroll - Break-fix | N36: =SUM(B36:M36) -> 0
A37: Payroll - Compliance | N37: =SUM(B37:M37) -> 0
A38: Payroll - Projects | N38: =SUM(B38:M38) -> 0
A39: Subtotal COGS | B39: =SUM(B26:B38) -> 0 | C39: =SUM(C26:C38) -> 0 | D39: =SUM(D26:D38) -> 0 | E39: =SUM(E26:E38) -> 0 | F39: =SUM(F26:F38) -> 0 | G39: =SUM(G26:G38) -> 0 | H39: =SUM(H26:H38) -> 0 | I39: =SUM(I26:I38) -> 0 | ... M39: =SUM(M26:M38) -> 0 | N39: =SUM(tblEmplPlan141516[YEAR]) -> 0
A41: TOTAL Gross Profit
A42: TOTAL Gross Profit (Product) | B42: =B9-B26-B27 -> 0 | C42: =C9-C26-C27 -> 0 | D42: =D9-D26-D27 -> 0 | E42: =E9-E26-E27 -> 0 | F42: =F9-F26-F27 -> 0 | G42: =G9-G26-G27 -> 0 | H42: =H9-H26-H27 -> 0 | I42: =I9-I26-I27 -> 0 | ... M42: =M9-M26-M27 -> 0 | N42: =B42+C42+D42+E42+F42+G42+H42+I42+J42+K42+L42+M42 -> 0
A43: TOTAL Gross Profit (Services) | B43: =B20-B28-B29-B30-B31-B33-B35-B36-B37-B38 -> 0 | C43: =C20-C28-C29-C30-C31-C33-C35-C36-C37-C38 -> 0 | D43: =D20-D28-D29-D30-D31-D33-D35-D36-D37-D38 -> 0 | E43: =E20-E28-E29-E30-E31-E33-E35-E36-E37-E38 -> 0 | F43: =F20-F28-F29-F30-F31-F33-F35-F36-F37-F38 -> 0 | G43: =G20-G28-G29-G30-G31-G33-G35-G36-G37-G38 -> 0 | H43: =H20-H28-H29-H30-H31-H33-H35-H36-H37-H38 -> 0 | I43: =I20-I28-I29-I30-I31-I33-I35-I36-I37-I38 -> 0 | ... M43: =M20-M28-M29-M30-M31-M33-M35-M36-M37-M38 -> 0 | N43: =B43+C43+D43+E43+F43+G43+H43+I43+J43+K43+L43+M43 -> 0
A44: TOTAL Gross Profit | B44: =B42+B43 -> 0 | C44: =C42+C43 -> 0 | D44: =D42+D43 -> 0 | E44: =E42+E43 -> 0 | F44: =F42+F43 -> 0 | G44: =G42+G43 -> 0 | H44: =H42+H43 -> 0 | I44: =I42+I43 -> 0 | ... M44: =M42+M43 -> 0 | N44: =SUM(N42:N43) -> 0
A46: Planned Expenses | B46: Jan | C46: Feb | D46: Mar | E46: Apr | F46: May | G46: Jun | H46: Jul | I46: Aug | J46: Sep | K46: Oct | L46: Nov | M46: Dec | N46: YEAR
A47: Admin Employee Costs | B47: Jan | C47: Feb | D47: Mar | E47: Apr | F47: May | G47: Jun | H47: Jul | I47: Aug | J47: Sep | K47: Oct | L47: Nov | M47: Dec | N47: YEAR
...

Sheet Sheet2

Sheet ACTUAL
A3: Actual
A4: Actual Revenue | B4: Jan | C4: Feb | D4: Mar | E4: Apr | F4: May | G4: Jun | H4: Jul | I4: Aug | J4: Sep | K4: Oct | L4: Nov | M4: Dec | N4: YEAR
A5: Product Resell Revenue | B5: Jan | C5: Feb | D5: Mar | E5: Apr | F5: May | G5: Jun | H5: Jul | I5: Aug | J5: Sep | K5: Oct | L5: Nov | M5: Dec | N5: YEAR
A6: Product Sales | N6: =SUM(B6:M6) -> 0
N7: =SUM(B7:M7) -> 0
A8: Subtotal | B8: =B6+B7 -> 0 | C8: =C6+C7 -> 0 | D8: =D6+D7 -> 0 | E8: =E6+E7 -> 0 | F8: =F6+F7 -> 0 | G8: =G6+G7 -> 0 | H8: =H6+H7 -> 0 | I8: =I6+I7 -> 0 | ... N8: =N6+N7 -> 0
A10: Services Revenue | B10: Jan | C10: Feb | D10: Mar | E10: Apr | F10: May | G10: Jun | H10: Jul | I10: Aug | J10: Sep | K10: Oct | L10: Nov | M10: Dec | N10: YEAR
A11: (MSP) Infra Managed Revenue | N11: =SUM(B11:M11) -> 0
A12: Other Recurring Revenue | N12: =SUM(B12:M12) -> 0
A13: Project Revenue | N13: =SUM(B13:M13) -> 0
A14: Compliance Dept. Project Rev | N14: =SUM(B14:M14) -> 0
A15: Compliance Dept. Recurring Rev | N15: =SUM(B15:M15) -> 0
A16: Break-Fix Revenue | N16: =SUM(B16:M16) -> 0
A17: Web Revenue (including recurring) | N17: =SUM(B17:M17) -> 0
A18: Other Revenue | N18: =SUM(B18:M18) -> 0
A19: Subtotal | B19: =SUM(B11:B18) -> 0 | C19: =SUM(C11:C18) -> 0 | D19: =SUM(D11:D18) -> 0 | E19: =SUM(E11:E18) -> 0 | F19: =SUM(F11:F18) -> 0 | G19: =SUM(G11:G18) -> 0 | H19: =SUM(H11:H18) -> 0 | I19: =SUM(I11:I18) -> 0 | ... M19: =SUM(M11:M18) -> 0 | N19: =SUBTOTAL(109,tblEmplPlan141518[YEAR]) -> 0
A21: TOTAL Revenue
A22: TOTAL Revenue | B22: =tblEmplPlan1417[[#Totals],[Jan]]+tblEmplPlan141518[[#Totals],[Jan]] -> 0 | C22: =tblEmplPlan1417[[#Totals],[Feb]]+tblEmplPlan141518[[#Totals],[Feb]] -> 0 | D22: =tblEmplPlan1417[[#Totals],[Mar]]+tblEmplPlan141518[[#Totals],[Mar]] -> 0 | E22: =tblEmplPlan1417[[#Totals],[Apr]]+tblEmplPlan141518[[#Totals],[Apr]] -> 0 | F22: =tblEmplPlan1417[[#Totals],[May]]+tblEmplPlan141518[[#Totals],[May]] -> 0 | G22: =tblEmplPlan1417[[#Totals],[Jun]]+tblEmplPlan141518[[#Totals],[Jun]] -> 0 | H22: =tblEmplPlan1417[[#Totals],[Jul]]+tblEmplPlan141518[[#Totals],[Jul]] -> 0 | I22: =tblEmplPlan1417[[#Totals],[Aug]]+tblEmplPlan141518[[#Totals],[Aug]] -> 0 | J22: =tblEmplPlan1417[[#Totals],[Sep]]+tblEmplPlan141518[[#Totals],[Sep]] -> 0 | K22: =tblEmplPlan1417[[#Totals],[Oct]]+tblEmplPlan141518[[#Totals],[Oct]] -> 0 | L22: =tblEmplPlan1417[[#Totals],[Nov]]+tblEmplPlan141518[[#Totals],[Nov]] -> 0 | M22: =tblEmplPlan1417[[#Totals],[Dec]]+tblEmplPlan141518[[#Totals],[Dec]] -> 0 | N22: =B22+C22+D22+E22+F22+G22+H22+I22+J22+K22+L22+M22 -> 0
A24: COGS | B24: Jan | C24: Feb | D24: Mar | E24: Apr | F24: May | G24: Jun | H24: Jul | I24: Aug | J24: Sep | K24: Oct | L24: Nov | M24: Dec | N24: YEAR
A25: Product COGS | N25: =SUM(B25:M25) -> 0
A26: UTM/Wattbox/BDR | N26: =SUM(B26:M26) -> 0
A27: MSP COGS | N27: =SUM(B27:M27) -> 0
A28: Project COGS | N28: =SUM(B28:M28) -> 0
A29: Compliance COGS | N29: =SUM(B29:M29) -> 0
A30: Break-Fix COGS | N30: =SUM(B30:M30) -> 0
A31: Web COGS (including recurring) | N31: =SUM(B31:M31) -> 0
A32: Other Recurring COGS | N32: =SUM(B32:M32) -> 0
N33: =SUM(B33:M33) -> 0
A34: Payroll - MSP | N34: =SUM(B34:M34) -> 0
A35: Payroll - Break-fix | N35: =SUM(B35:M35) -> 0
A36: Payroll - Compliance | N36: =SUM(B36:M36) -> 0
A37: Payroll - Projects | N37: =SUM(B37:M37) -> 0
A38: Subtotal COGS | B38: =SUM(tblEmplPlan14151619[Jan]) -> 0 | C38: =SUM(tblEmplPlan14151619[Feb]) -> 0 | D38: =SUM(tblEmplPlan14151619[Mar]) -> 0 | E38: =SUM(tblEmplPlan14151619[Apr]) -> 0 | F38: =SUM(tblEmplPlan14151619[May]) -> 0 | G38: =SUM(tblEmplPlan14151619[Jun]) -> 0 | H38: =SUM(tblEmplPlan14151619[Jul]) -> 0 | I38: =SUM(tblEmplPlan14151619[Aug]) -> 0 | J38: =SUM(tblEmplPlan14151619[Sep]) -> 0 | K38: =SUM(tblEmplPlan14151619[Oct]) -> 0 | L38: =SUM(tblEmplPlan14151619[Nov]) -> 0 | M38: =SUM(tblEmplPlan14151619[Dec]) -> 0 | N38: =SUBTOTAL(109,tblEmplPlan14151619[YEAR]) -> 0
A40: TOTAL Gross Profit
A41: TOTAL Gross Profit (Product) | B41: =tblEmplPlan1417[[#Totals],[Jan]]-B25-B26 -> 0 | C41: =tblEmplPlan1417[[#Totals],[Feb]]-C25-C26 -> 0 | D41: =tblEmplPlan1417[[#Totals],[Mar]]-D25-D26 -> 0 | E41: =tblEmplPlan1417[[#Totals],[Apr]]-E25-E26 -> 0 | F41: =tblEmplPlan1417[[#Totals],[May]]-F25-F26 -> 0 | G41: =tblEmplPlan1417[[#Totals],[Jun]]-G25-G26 -> 0 | H41: =tblEmplPlan1417[[#Totals],[Jul]]-H25-H26 -> 0 | I41: =tblEmplPlan1417[[#Totals],[Aug]]-I25-I26 -> 0 | J41: =tblEmplPlan1417[[#Totals],[Sep]]-J25-J26 -> 0 | K41: =tblEmplPlan1417[[#Totals],[Oct]]-K25-K26 -> 0 | L41: =tblEmplPlan1417[[#Totals],[Nov]]-L25-L26 -> 0 | M41: =tblEmplPlan1417[[#Totals],[Dec]]-M25-M26 -> 0 | N41: =SUM(B41:M41) -> 0
A42: TOTAL Gross Profit (Services) | B42: =tblEmplPlan141518[[#Totals],[Jan]]-B27-B28-B29-B30-B32-B34-B35-B36-B37 -> 0 | C42: =tblEmplPlan141518[[#Totals],[Feb]]-C27-C28-C29-C30-C32-C34-C35-C36-C37 -> 0 | D42: =tblEmplPlan141518[[#Totals],[Mar]]-D27-D28-D29-D30-D32-D34-D35-D36-D37 -> 0 | E42: =tblEmplPlan141518[[#Totals],[Apr]]-E27-E28-E29-E30-E32-E34-E35-E36-E37 -> 0 | F42: =tblEmplPlan141518[[#Totals],[May]]-F27-F28-F29-F30-F32-F34-F35-F36-F37 -> 0 | G42: =tblEmplPlan141518[[#Totals],[Jun]]-G27-G28-G29-G30-G32-G34-G35-G36-G37 -> 0 | H42: =tblEmplPlan141518[[#Totals],[Jul]]-H27-H28-H29-H30-H32-H34-H35-H36-H37 -> 0 | I42: =tblEmplPlan141518[[#Totals],[Aug]]-I27-I28-I29-I30-I32-I34-I35-I36-I37 -> 0 | J42: =tblEmplPlan141518[[#Totals],[Sep]]-J27-J28-J29-J30-J32-J34-J35-J36-J37 -> 0 | K42: =tblEmplPlan141518[[#Totals],[Oct]]-K27-K28-K29-K30-K32-K34-K35-K36-K37 -> 0 | L42: =tblEmplPlan141518[[#Totals],[Nov]]-L27-L28-L29-L30-L32-L34-L35-L36-L37 -> 0 | M42: =tblEmplPlan141518[[#Totals],[Dec]]-M27-M28-M29-M30-M32-M34-M35-M36-M37 -> 0 | N42: =SUM(B42:M42) -> 0
A43: TOTAL Gross Profit | B43: =B41+B42 -> 0 | C43: =C41+C42 -> 0 | D43: =D41+D42 -> 0 | E43: =E41+E42 -> 0 | F43: =F41+F42 -> 0 | G43: =G41+G42 -> 0 | H43: =H41+H42 -> 0 | I43: =I41+I42 -> 0 | ... M43: =M41+M42 -> 0 | N43: =SUM(B43:M43) -> 0
A45: Actual Expenses | B45: Jan | C45: Feb | D45: Mar | E45: Apr | F45: May | G45: Jun | H45: Jul | I45: Aug | J45: Sep | K45: Oct | L45: Nov | M45: Dec | N45: YEAR
A46: Admin Employee Costs | B46: Jan | C46: Feb | D46: Mar | E46: Apr | F46: May | G46: Jun | H46: Jul | I46: Aug | J46: Sep | K46: Oct | L46: Nov | M46: Dec | N46: YEAR
A47: Payroll - Admin | N47: =SUM(B47:M47) -> 0
...

Sheet EXPENSE VARIANCES
B3: Expense Variances
B4: All cells are calculations.
B5: Actual Revenue | C5: Jan | D5: Feb | E5: Mar | F5: Apr | G5: May | H5: Jun | I5: Jul | J5: Aug | K5: Sep | L5: Oct | M5: Nov | N5: Dec | O5: YEAR
B6: Product Resell Revenue | C6: Jan | D6: Feb | E6: Mar | F6: Apr | G6: May | H6: Jun | I6: Jul | J6: Aug | K6: Sep | L6: Oct | M6: Nov | N6: Dec | O6: YEAR
B7: Product Sales | D7: =ACTUAL!C6-Budget!C7 -> 0 | E7: =ACTUAL!D6-Budget!D7 -> 0 | F7: =ACTUAL!E6-Budget!E7 -> 0 | G7: =ACTUAL!F6-Budget!F7 -> 0 | H7: =ACTUAL!G6-Budget!G7 -> 0 | I7: =ACTUAL!H6-Budget!H7 -> 0 | J7: =ACTUAL!I6-Budget!I7 -> 0 | K7: =ACTUAL!J6-Budget!J7 -> 0 | ... N7: =ACTUAL!M6-Budget!M7 -> 0 | O7: =SUM(C7:N7) -> 0
O8: =SUM(C8:N8) -> 0
B9: Subtotal | C9: =C7+C8 -> 0 | D9: =D7+D8 -> 0 | E9: =E7+E8 -> 0 | F9: =F7+F8 -> 0 | G9: =G7+G8 -> 0 | H9: =H7+H8 -> 0 | I9: =I7+I8 -> 0 | J9: =J7+J8 -> 0 | ... O9: =O7+O8 -> 0
B11: Services Revenue | C11: Jan | D11: Feb | E11: Mar | F11: Apr | G11: May | H11: Jun | I11: Jul | J11: Aug | K11: Sep | L11: Oct | M11: Nov | N11: Dec | O11: YEAR
B12: (MSP) Infra Managed Revenue | D12: =ACTUAL!C11-Budget!C12 -> 0 | E12: =ACTUAL!D11-Budget!D12 -> 0 | F12: =ACTUAL!E11-Budget!E12 -> 0 | G12: =ACTUAL!F11-Budget!F12 -> 0 | H12: =ACTUAL!G11-Budget!G12 -> 0 | I12: =ACTUAL!H11-Budget!H12 -> 0 | J12: =ACTUAL!I11-Budget!I12 -> 0 | K12: =ACTUAL!J11-Budget!J12 -> 0 | ... N12: =ACTUAL!M11-Budget!M12 -> 0 | O12: =SUM(C12:N12) -> 0
B13: Other Recurring Revenue | D13: =ACTUAL!C12-Budget!C13 -> 0 | E13: =ACTUAL!D12-Budget!D13 -> 0 | F13: =ACTUAL!E12-Budget!E13 -> 0 | G13: =ACTUAL!F12-Budget!F13 -> 0 | H13: =ACTUAL!G12-Budget!G13 -> 0 | I13: =ACTUAL!H12-Budget!H13 -> 0 | J13: =ACTUAL!I12-Budget!I13 -> 0 | K13: =ACTUAL!J12-Budget!J13 -> 0 | ... N13: =ACTUAL!M12-Budget!M13 -> 0 | O13: =SUM(C13:N13) -> 0
B14: Project Revenue | D14: =ACTUAL!C13-Budget!C14 -> 0 | E14: =ACTUAL!D13-Budget!D14 -> 0 | F14: =ACTUAL!E13-Budget!E14 -> 0 | G14: =ACTUAL!F13-Budget!F14 -> 0 | H14: =ACTUAL!G13-Budget!G14 -> 0 | I14: =ACTUAL!H13-Budget!H14 -> 0 | J14: =ACTUAL!I13-Budget!I14 -> 0 | K14: =ACTUAL!J13-Budget!J14 -> 0 | ... N14: =ACTUAL!M13-Budget!M14 -> 0 | O14: =SUM(C14:N14) -> 0
B15: Break-Fix Revenue | D15: =ACTUAL!C16-Budget!C17 -> 0 | E15: =ACTUAL!D16-Budget!D17 -> 0 | F15: =ACTUAL!E16-Budget!E17 -> 0 | G15: =ACTUAL!F16-Budget!F17 -> 0 | H15: =ACTUAL!G16-Budget!G17 -> 0 | I15: =ACTUAL!H16-Budget!H17 -> 0 | J15: =ACTUAL!I16-Budget!I17 -> 0 | K15: =ACTUAL!J16-Budget!J17 -> 0 | ... N15: =ACTUAL!M16-Budget!M17 -> 0 | O15: =SUM(C15:N15) -> 0
B16: Web Revenue (including recurring) | D16: =ACTUAL!C17-Budget!C18 -> 0 | E16: =ACTUAL!D17-Budget!D18 -> 0 | F16: =ACTUAL!E17-Budget!E18 -> 0 | G16: =ACTUAL!F17-Budget!F18 -> 0 | H16: =ACTUAL!G17-Budget!G18 -> 0 | I16: =ACTUAL!H17-Budget!H18 -> 0 | J16: =ACTUAL!I17-Budget!I18 -> 0 | K16: =ACTUAL!J17-Budget!J18 -> 0 | ... N16: =ACTUAL!M17-Budget!M18 -> 0 | O16: =SUM(C16:N16) -> 0
B17: Other Revenue | D17: =ACTUAL!C18-Budget!C19 -> 0 | E17: =ACTUAL!D18-Budget!D19 -> 0 | F17: =ACTUAL!E18-Budget!E19 -> 0 | G17: =ACTUAL!F18-Budget!F19 -> 0 | H17: =ACTUAL!G18-Budget!G19 -> 0 | I17: =ACTUAL!H18-Budget!H19 -> 0 | J17: =ACTUAL!I18-Budget!I19 -> 0 | K17: =ACTUAL!J18-Budget!J19 -> 0 | ... N17: =ACTUAL!M18-Budget!M19 -> 0 | O17: =SUM(C17:N17) -> 0
B18: Subtotal | C18: =SUM(C12:C17) -> 0 | D18: =SUM(D12:D17) -> 0 | E18: =SUM(E12:E17) -> 0 | F18: =SUM(F12:F17) -> 0 | G18: =SUM(G12:G17) -> 0 | H18: =SUM(H12:H17) -> 0 | I18: =SUM(I12:I17) -> 0 | J18: =SUM(J12:J17) -> 0 | ... N18: =SUM(N12:N17) -> 0 | O18: =SUBTOTAL(109,tblEmplPlan14151821[YEAR]) -> 0
B20: TOTAL Revenue
B21: TOTAL Revenue | C21: =tblEmplPlan141720[[#Totals],[Jan]]+tblEmplPlan14151821[[#Totals],[Jan]] -> 0 | D21: =tblEmplPlan141720[[#Totals],[Feb]]+tblEmplPlan14151821[[#Totals],[Feb]] -> 0 | E21: =tblEmplPlan141720[[#Totals],[Mar]]+tblEmplPlan14151821[[#Totals],[Mar]] -> 0 | F21: =tblEmplPlan141720[[#Totals],[Apr]]+tblEmplPlan14151821[[#Totals],[Apr]] -> 0 | G21: =tblEmplPlan141720[[#Totals],[May]]+tblEmplPlan14151821[[#Totals],[May]] -> 0 | H21: =tblEmplPlan141720[[#Totals],[Jun]]+tblEmplPlan14151821[[#Totals],[Jun]] -> 0 | I21: =tblEmplPlan141720[[#Totals],[Jul]]+tblEmplPlan14151821[[#Totals],[Jul]] -> 0 | J21: =tblEmplPlan141720[[#Totals],[Aug]]+tblEmplPlan14151821[[#Totals],[Aug]] -> 0 | K21: =tblEmplPlan141720[[#Totals],[Sep]]+tblEmplPlan14151821[[#Totals],[Sep]] -> 0 | L21: =tblEmplPlan141720[[#Totals],[Oct]]+tblEmplPlan14151821[[#Totals],[Oct]] -> 0 | M21: =tblEmplPlan141720[[#Totals],[Nov]]+tblEmplPlan14151821[[#Totals],[Nov]] -> 0 | N21: =tblEmplPlan141720[[#Totals],[Dec]]+tblEmplPlan14151821[[#Totals],[Dec]] -> 0
B23: COGS | C23: Jan | D23: Feb | E23: Mar | F23: Apr | G23: May | H23: Jun | I23: Jul | J23: Aug | K23: Sep | L23: Oct | M23: Nov | N23: Dec | O23: YEAR
B24: Product COGS | D24: =ACTUAL!C25-Budget!C26 -> 0 | E24: =ACTUAL!D25-Budget!D26 -> 0 | F24: =ACTUAL!E25-Budget!E26 -> 0 | G24: =ACTUAL!F25-Budget!F26 -> 0 | H24: =ACTUAL!G25-Budget!G26 -> 0 | I24: =ACTUAL!H25-Budget!H26 -> 0 | J24: =ACTUAL!I25-Budget!I26 -> 0 | K24: =ACTUAL!J25-Budget!J26 -> 0 | ... N24: =ACTUAL!M25-Budget!M26 -> 0 | O24: =SUM(C24:N24) -> 0
O25: =SUM(C25:N25) -> 0
B26: MSP COGS | D26: =ACTUAL!C27-Budget!C28 -> 0 | E26: =ACTUAL!D27-Budget!D28 -> 0 | F26: =ACTUAL!E27-Budget!E28 -> 0 | G26: =ACTUAL!F27-Budget!F28 -> 0 | H26: =ACTUAL!G27-Budget!G28 -> 0 | I26: =ACTUAL!H27-Budget!H28 -> 0 | J26: =ACTUAL!I27-Budget!I28 -> 0 | K26: =ACTUAL!J27-Budget!J28 -> 0 | ... N26: =ACTUAL!M27-Budget!M28 -> 0 | O26: =SUM(C26:N26) -> 0
B27: Project COGS | D27: =ACTUAL!C28-Budget!C29 -> 0 | E27: =ACTUAL!D28-Budget!D29 -> 0 | F27: =ACTUAL!E28-Budget!E29 -> 0 | G27: =ACTUAL!F28-Budget!F29 -> 0 | H27: =ACTUAL!G28-Budget!G29 -> 0 | I27: =ACTUAL!H28-Budget!H29 -> 0 | J27: =ACTUAL!I28-Budget!I29 -> 0 | K27: =ACTUAL!J28-Budget!J29 -> 0 | ... N27: =ACTUAL!M28-Budget!M29 -> 0 | O27: =SUM(C27:N27) -> 0
B28: Break-Fix COGS | D28: =ACTUAL!C30-Budget!C31 -> 0 | E28: =ACTUAL!D30-Budget!D31 -> 0 | F28: =ACTUAL!E30-Budget!E31 -> 0 | G28: =ACTUAL!F30-Budget!F31 -> 0 | H28: =ACTUAL!G30-Budget!G31 -> 0 | I28: =ACTUAL!H30-Budget!H31 -> 0 | J28: =ACTUAL!I30-Budget!I31 -> 0 | K28: =ACTUAL!J30-Budget!J31 -> 0 | ... N28: =ACTUAL!M30-Budget!M31 -> 0 | O28: =SUM(C28:N28) -> 0
B29: Web COGS (including recurring) | D29: =ACTUAL!C31-Budget!C32 -> 0 | E29: =ACTUAL!D31-Budget!D32 -> 0 | F29: =ACTUAL!E31-Budget!E32 -> 0 | G29: =ACTUAL!F31-Budget!F32 -> 0 | H29: =ACTUAL!G31-Budget!G32 -> 0 | I29: =ACTUAL!H31-Budget!H32 -> 0 | J29: =ACTUAL!I31-Budget!I32 -> 0 | K29: =ACTUAL!J31-Budget!J32 -> 0 | ... N29: =ACTUAL!M31-Budget!M32 -> 0 | O29: =SUM(C29:N29) -> 0
B30: Other COGS | D30: =ACTUAL!C32-Budget!C33 -> 0 | E30: =ACTUAL!D32-Budget!D33 -> 0 | F30: =ACTUAL!E32-Budget!E33 -> 0 | G30: =ACTUAL!F32-Budget!F33 -> 0 | H30: =ACTUAL!G32-Budget!G33 -> 0 | I30: =ACTUAL!H32-Budget!H33 -> 0 | J30: =ACTUAL!I32-Budget!I33 -> 0 | K30: =ACTUAL!J32-Budget!J33 -> 0 | ... N30: =ACTUAL!M32-Budget!M33 -> 0 | O30: =SUM(C30:N30) -> 0
B31: Subtotal COGS | C31: =C24+C26+C27+C28+C29+C30 -> 0 | D31: =D24+D26+D27+D28+D29+D30 -> 0 | E31: =E24+E26+E27+E28+E29+E30 -> 0 | F31: =F24+F26+F27+F28+F29+F30 -> 0 | G31: =G24+G26+G27+G28+G29+G30 -> 0 | H31: =H24+H26+H27+H28+H29+H30 -> 0 | I31: =I24+I26+I27+I28+I29+I30 -> 0 | J31: =J24+J26+J27+J28+J29+J30 -> 0 | ... N31: =N24+N26+N27+N28+N29+N30 -> 0 | O31: =SUBTOTAL(109,tblEmplPlan1415161922[YEAR]) -> 0
B33: TOTAL Gross Profit
B34: TOTAL Gross Profit (Product) | C34: =tblEmplPlan141720[[#Totals],[Jan]]-C24 -> 0 | D34: =tblEmplPlan141720[[#Totals],[Feb]]-D24 -> 0 | E34: =tblEmplPlan141720[[#Totals],[Mar]]-E24 -> 0 | F34: =tblEmplPlan141720[[#Totals],[Apr]]-F24 -> 0 | G34: =tblEmplPlan141720[[#Totals],[May]]-G24 -> 0 | H34: =tblEmplPlan141720[[#Totals],[Jun]]-H24 -> 0 | I34: =tblEmplPlan141720[[#Totals],[Jul]]-I24 -> 0 | J34: =tblEmplPlan141720[[#Totals],[Aug]]-J24 -> 0 | K34: =tblEmplPlan141720[[#Totals],[Sep]]-K24 -> 0 | L34: =tblEmplPlan141720[[#Totals],[Oct]]-L24 -> 0 | M34: =tblEmplPlan141720[[#Totals],[Nov]]-M24 -> 0 | N34: =tblEmplPlan141720[[#Totals],[Dec]]-N24 -> 0
B35: TOTAL Gross Profit (Services) | C35: =tblEmplPlan14151821[[#Totals],[Jan]]-C26-C27-C28-C29-C30 -> 0 | D35: =tblEmplPlan14151821[[#Totals],[Feb]]-D26-D27-D28-D29-D30 -> 0 | E35: =tblEmplPlan14151821[[#Totals],[Mar]]-E26-E27-E28-E29-E30 -> 0 | F35: =tblEmplPlan14151821[[#Totals],[Apr]]-F26-F27-F28-F29-F30 -> 0 | G35: =tblEmplPlan14151821[[#Totals],[May]]-G26-G27-G28-G29-G30 -> 0 | H35: =tblEmplPlan14151821[[#Totals],[Jun]]-H26-H27-H28-H29-H30 -> 0 | I35: =tblEmplPlan14151821[[#Totals],[Jul]]-I26-I27-I28-I29-I30 -> 0 | J35: =tblEmplPlan14151821[[#Totals],[Aug]]-J26-J27-J28-J29-J30 -> 0 | K35: =tblEmplPlan14151821[[#Totals],[Sep]]-K26-K27-K28-K29-K30 -> 0 | L35: =tblEmplPlan14151821[[#Totals],[Oct]]-L26-L27-L28-L29-L30 -> 0 | M35: =tblEmplPlan14151821[[#Totals],[Nov]]-M26-M27-M28-M29-M30 -> 0 | N35: =tblEmplPlan14151821[[#Totals],[Dec]]-N26-N27-N28-N29-N30 -> 0
B36: TOTAL Gross Profit | C36: =C34+C35 -> 0 | D36: =D34+D35 -> 0 | E36: =E34+E35 -> 0 | F36: =F34+F35 -> 0 | G36: =G34+G35 -> 0 | H36: =H34+H35 -> 0 | I36: =I34+I35 -> 0 | J36: =J34+J35 -> 0 | ... N36: =N34+N35 -> 0
B38: Actual Expenses | C38: Jan | D38: Feb | E38: Mar | F38: Apr | G38: May | H38: Jun | I38: Jul | J38: Aug | K38: Sep | L38: Oct | M38: Nov | N38: Dec | O38: YEAR
B39: Employee Costs | C39: Jan | D39: Feb | E39: Mar | F39: Apr | G39: May | H39: Jun | I39: Jul | J39: Aug | K39: Sep | L39: Oct | M39: Nov | N39: Dec | O39: YEAR
B40: Payroll - Admin | C40: =ACTUAL!B47-Budget!B48 -> 0 | D40: =ACTUAL!C47-Budget!C48 -> 0 | E40: =ACTUAL!D47-Budget!D48 -> 0 | F40: =ACTUAL!E47-Budget!E48 -> 0 | G40: =ACTUAL!F47-Budget!F48 -> 0 | H40: =ACTUAL!G47-Budget!G48 -> 0 | I40: =ACTUAL!H47-Budget!H48 -> 0 | J40: =ACTUAL!I47-Budget!I48 -> 0 | ... N40: =ACTUAL!M47-Budget!M48 -> 0 | O40: =SUM(C40:N40) -> 0
B41: Payroll - MSP | C41: =ACTUAL!B34-Budget!B35 -> 0 | D41: =ACTUAL!C34-Budget!C35 -> 0 | E41: =ACTUAL!D34-Budget!D35 -> 0 | F41: =ACTUAL!E34-Budget!E35 -> 0 | G41: =ACTUAL!F34-Budget!F35 -> 0 | H41: =ACTUAL!G34-Budget!G35 -> 0 | I41: =ACTUAL!H34-Budget!H35 -> 0 | J41: =ACTUAL!I34-Budget!I35 -> 0 | ... N41: =ACTUAL!M34-Budget!M35 -> 0 | O41: =SUM(C41:N41) -> 0
B42: Payroll - Web | C42: =ACTUAL!#REF!-Budget!#REF! -> #REF! | D42: =ACTUAL!#REF!-Budget!#REF! -> #REF! | E42: =ACTUAL!#REF!-Budget!#REF! -> #REF! | F42: =ACTUAL!#REF!-Budget!#REF! -> #REF! | G42: =ACTUAL!#REF!-Budget!#REF! -> #REF! | H42: =ACTUAL!#REF!-Budget!#REF! -> #REF! | I42: =ACTUAL!#REF!-Budget!#REF! -> #REF! | J42: =ACTUAL!#REF!-Budget!#REF! -> #REF! | ... N42: =ACTUAL!#REF!-Budget!#REF! -> #REF! | O42: =SUM(C42:N42) -> #REF!
B43: Payroll - Break-fix | C43: =ACTUAL!B35-Budget!B36 -> 0 | D43: =ACTUAL!C35-Budget!C36 -> 0 | E43: =ACTUAL!D35-Budget!D36 -> 0 | F43: =ACTUAL!E35-Budget!E36 -> 0 | G43: =ACTUAL!F35-Budget!F36 -> 0 | H43: =ACTUAL!G35-Budget!G36 -> 0 | I43: =ACTUAL!H35-Budget!H36 -> 0 | J43: =ACTUAL!I35-Budget!I36 -> 0 | ... N43: =ACTUAL!M35-Budget!M36 -> 0 | O43: =SUM(C43:N43) -> 0
B44: Payroll - Projects | C44: =ACTUAL!B37-Budget!B38 -> 0 | D44: =ACTUAL!C37-Budget!C38 -> 0 | E44: =ACTUAL!D37-Budget!D38 -> 0 | F44: =ACTUAL!E37-Budget!E38 -> 0 | G44: =ACTUAL!F37-Budget!F38 -> 0 | H44: =ACTUAL!G37-Budget!G38 -> 0 | I44: =ACTUAL!H37-Budget!H38 -> 0 | J44: =ACTUAL!I37-Budget!I38 -> 0 | ... N44: =ACTUAL!M37-Budget!M38 -> 0 | O44: =SUM(C44:N44) -> 0
B45: Payroll - Sales | C45: =ACTUAL!B82-Budget!B83 -> 0 | D45: =ACTUAL!C82-Budget!C83 -> 0 | E45: =ACTUAL!D82-Budget!D83 -> 0 | F45: =ACTUAL!E82-Budget!E83 -> 0 | G45: =ACTUAL!F82-Budget!F83 -> 0 | H45: =ACTUAL!G82-Budget!G83 -> 0 | I45: =ACTUAL!H82-Budget!H83 -> 0 | J45: =ACTUAL!I82-Budget!I83 -> 0 | ... N45: =ACTUAL!M82-Budget!M83 -> 0 | O45: =SUM(C45:N45) -> 0
B46: Payroll - Marketing | C46: =ACTUAL!B84-Budget!B85 -> 0 | D46: =ACTUAL!C84-Budget!C85 -> 0 | E46: =ACTUAL!D84-Budget!D85 -> 0 | F46: =ACTUAL!E84-Budget!E85 -> 0 | G46: =ACTUAL!F84-Budget!F85 -> 0 | H46: =ACTUAL!G84-Budget!G85 -> 0 | I46: =ACTUAL!H84-Budget!H85 -> 0 | J46: =ACTUAL!I84-Budget!I85 -> 0 | ... N46: =ACTUAL!M84-Budget!M85 -> 0 | O46: =SUM(C46:N46) -> 0
B47: Payroll - Taxes | C47: =ACTUAL!B48-Budget!B49 -> 0 | D47: =ACTUAL!C48-Budget!C49 -> 0 | E47: =ACTUAL!D48-Budget!D49 -> 0 | F47: =ACTUAL!E48-Budget!E49 -> 0 | G47: =ACTUAL!F48-Budget!F49 -> 0 | H47: =ACTUAL!G48-Budget!G49 -> 0 | I47: =ACTUAL!H48-Budget!H49 -> 0 | J47: =ACTUAL!I48-Budget!I49 -> 0 | ... N47: =ACTUAL!M48-Budget!M49 -> 0 | O47: =SUM(C47:N47) -> 0
...

Sheet Sheet1
